BEGIN:VCALENDAR
VERSION:2.0
PRODID:-//The Ivy Berkeley - ECPv6.15.20//NONSGML v1.0//EN
CALSCALE:GREGORIAN
METHOD:PUBLISH
X-WR-CALNAME:The Ivy Berkeley
X-ORIGINAL-URL:https://ivyliving.com/theivyberkeley
X-WR-CALDESC:Events for The Ivy Berkeley
REFRESH-INTERVAL;VALUE=DURATION:PT1H
X-Robots-Tag:noindex
X-PUBLISHED-TTL:PT1H
BEGIN:VTIMEZONE
TZID:UTC
BEGIN:STANDARD
TZOFFSETFROM:+0000
TZOFFSETTO:+0000
TZNAME:UTC
DTSTART:20250101T000000
END:STANDARD
END:VTIMEZONE
BEGIN:VEVENT
DTSTART;TZID=UTC:20260507T130000
DTEND;TZID=UTC:20260507T150000
DTSTAMP:20260422T001534
CREATED:20260413T233047Z
LAST-MODIFIED:20260420T172227Z
UID:3216-1778158800-1778166000@ivyliving.com
SUMMARY:Afternoon Tea Party
DESCRIPTION:Join us for a charming\, spring tea party featuring pastries\, finger sandwiches\, and warm conversation. The afternoon continues with a tour of our community where you’ll discover the personalized care\, five-star dining\, and vibrant social calendar that make The Ivy truly exceptional.\n\n\n📍2501 Milvia Street Berkeley\, CA 94704 \n\n\n                \n                        \n                            Join Us for an Exclusive Event! *NON WH\n                            Event Form RSVP. \n                        					\n						Δ\n						\n						\n\n					\n                        FacebookThis field is for validation purposes and should be left unchanged.First NameLast NameEmail\n                            \n                        PhoneCAPTCHAThis field is hidden when viewing the formUTM SourceThis field is hidden when viewing the formUTM MediumThis field is hidden when viewing the formUTM CampaignThis field is hidden when viewing the formSource Id
URL:https://ivyliving.com/theivyberkeley/event/afternoon-tea-party/
ATTACH;FMTTYPE=image/jpeg:https://ivyliving.com/theivyberkeley/wp-content/uploads/sites/60/2026/04/iStock-1478394005.jpg
END:VEVENT
BEGIN:VEVENT
DTSTART;TZID=UTC:20260519T110000
DTEND;TZID=UTC:20260519T130000
DTSTAMP:20260422T001535
CREATED:20260413T233513Z
LAST-MODIFIED:20260420T171630Z
UID:3217-1779188400-1779195600@ivyliving.com
SUMMARY:Planning Ahead: A Conversation That Matters
DESCRIPTION:Join us for light bites & refreshments as expert Anna Le Mon from Senior Alternatives shares easy-to-follow guidance on organizing your financial and legal affairs\, so you can relax with confidence and enjoy true peace of mind. While you’re here\, tour our community and discover the personalized care\, five-star dining program\, and vibrant activities calendar that make The Ivy truly exceptional.\n\n\n\n📍2501 Milvia Street Berkeley\, CA 94704 \n\n                \n                        \n                            Join Us for an Exclusive Event! *NON WH\n                            Event Form RSVP. \n                        					\n						Δ\n						\n						\n\n					\n                        FacebookThis field is for validation purposes and should be left unchanged.First NameLast NameEmail\n                            \n                        PhoneCAPTCHAThis field is hidden when viewing the formUTM SourceThis field is hidden when viewing the formUTM MediumThis field is hidden when viewing the formUTM CampaignThis field is hidden when viewing the formSource Id
URL:https://ivyliving.com/theivyberkeley/event/planning-ahead-a-conversation-that-matters/
ATTACH;FMTTYPE=image/png:https://ivyliving.com/theivyberkeley/wp-content/uploads/sites/60/2026/04/Screenshot-2026-04-20-101507.png
END:VEVENT
BEGIN:VEVENT
DTSTART;TZID=UTC:20260528T160000
DTEND;TZID=UTC:20260528T180000
DTSTAMP:20260422T001535
CREATED:20260413T233858Z
LAST-MODIFIED:20260420T165947Z
UID:3218-1779984000-1779991200@ivyliving.com
SUMMARY:Dinner & Opera
DESCRIPTION:Indulge in an elegant three-course dinner as you are serenaded by the stunning voice and captivating performance of a professional opera singer. The evening continues with an exclusive tour of our community as you discover the elevated surroundings\, luxurious amenities\, and personalized care that make The Ivy the perfect place to call home.\n\n\n\n📍2501 Milvia Street Berkeley\, CA 94704 \n\n                \n                        \n                            Join Us for an Exclusive Event! *NON WH\n                            Event Form RSVP. \n                        					\n						Δ\n						\n						\n\n					\n                        X/TwitterThis field is for validation purposes and should be left unchanged.First NameLast NameEmail\n                            \n                        PhoneCAPTCHAThis field is hidden when viewing the formUTM SourceThis field is hidden when viewing the formUTM MediumThis field is hidden when viewing the formUTM CampaignThis field is hidden when viewing the formSource Id
URL:https://ivyliving.com/theivyberkeley/event/dinner-opera/
ATTACH;FMTTYPE=image/jpeg:https://ivyliving.com/theivyberkeley/wp-content/uploads/sites/60/2026/04/iStock-2243680454-modified-0b260d28-aaf6-4980-b054-b575534f9168.jpg
END:VEVENT
END:VCALENDAR