BEGIN:VCALENDAR
VERSION:2.0
PRODID:-//The Ivy Berkeley - ECPv6.15.20//NONSGML v1.0//EN
CALSCALE:GREGORIAN
METHOD:PUBLISH
X-ORIGINAL-URL:https://ivyliving.com/theivyberkeley
X-WR-CALDESC:Events for The Ivy Berkeley
REFRESH-INTERVAL;VALUE=DURATION:PT1H
X-Robots-Tag:noindex
X-PUBLISHED-TTL:PT1H
BEGIN:VTIMEZONE
TZID:UTC
BEGIN:STANDARD
TZOFFSETFROM:+0000
TZOFFSETTO:+0000
TZNAME:UTC
DTSTART:20250101T000000
END:STANDARD
END:VTIMEZONE
BEGIN:VEVENT
DTSTART;TZID=UTC:20260325T110000
DTEND;TZID=UTC:20260325T130000
DTSTAMP:20260421T092928
CREATED:20260226T000741Z
LAST-MODIFIED:20260226T000832Z
UID:3199-1774436400-1774443600@ivyliving.com
SUMMARY:Guided Tai Chi Class
DESCRIPTION:Enjoy a morning of wellness and relaxation. Learn the ancient art of Tai Chi and enjoy a healthy chef-prepared breakfast featuring superfood smoothies and savory bites. While you’re here\, tour our community and discover the personalized care\, five-star dining\, and curated activities that make The Ivy truly exceptional. \n📍2501 Milvia Street Berkeley\, CA 94704 \n\n\n                \n                        \n                            Experience The Ivy at Berkeley\n                             \n							"*" indicates required fields \n                        					\n						Δ\n						\n						\n\n					\n                        InstagramThis field is for validation purposes and should be left unchanged.First Name*Last Name*Email*\n                            \n                        PhoneCAPTCHAThis field is hidden when viewing the formUTM SourceThis field is hidden when viewing the formUTM MediumThis field is hidden when viewing the formUTM CampaignThis field is hidden when viewing the formSource Id
URL:https://ivyliving.com/theivyberkeley/event/guided-tai-chi-class/
ATTACH;FMTTYPE=image/jpeg:https://ivyliving.com/theivyberkeley/wp-content/uploads/sites/60/2026/02/iStock-1134306207.jpg
END:VEVENT
BEGIN:VEVENT
DTSTART;TZID=UTC:20260402T110000
DTEND;TZID=UTC:20260402T130000
DTSTAMP:20260421T092928
CREATED:20260310T165425Z
LAST-MODIFIED:20260310T165425Z
UID:3203-1775127600-1775134800@ivyliving.com
SUMMARY:Spring Brunch Bites & Mimosas
DESCRIPTION:Join us for an elegant spring morning. Savor chef-crafted brunch selections and chilled mimosas as you discover today’s most refined\, design-forward approach to senior living. While you’re here\, tour our community and discover the curated activities\, five-star dining\, and personalized care that make The Ivy Berkeley truly exceptional.\n\n📍2501 Milvia Street Berkeley\, CA 94704 \n\n                \n                        \n                            Experience The Ivy at Berkeley\n                             \n							"*" indicates required fields \n                        					\n						Δ\n						\n						\n\n					\n                        NameThis field is for validation purposes and should be left unchanged.First Name*Last Name*Email*\n                            \n                        PhoneCAPTCHAThis field is hidden when viewing the formUTM SourceThis field is hidden when viewing the formUTM MediumThis field is hidden when viewing the formUTM CampaignThis field is hidden when viewing the formSource Id
URL:https://ivyliving.com/theivyberkeley/event/spring-brunch-bites-mimosas/
ATTACH;FMTTYPE=image/jpeg:https://ivyliving.com/theivyberkeley/wp-content/uploads/sites/60/2026/03/brunch-bites.jpg
END:VEVENT
BEGIN:VEVENT
DTSTART;TZID=UTC:20260408T140000
DTEND;TZID=UTC:20260408T160000
DTSTAMP:20260421T092928
CREATED:20260323T203355Z
LAST-MODIFIED:20260323T204202Z
UID:3209-1775656800-1775664000@ivyliving.com
SUMMARY:Lumpia 101
DESCRIPTION:Join us in the Sky Lounge for a joyful cooking demonstration with Chef Jojo. Make your own lumpia while indulging in other delicious Filipino bites and refreshments.\n\n📍2501 Milvia Street Berkeley\, CA 94704 \n\n                \n                        \n                            Experience The Ivy at Berkeley\n                             \n							"*" indicates required fields \n                        					\n						Δ\n						\n						\n\n					\n                        InstagramThis field is for validation purposes and should be left unchanged.First Name*Last Name*Email*\n                            \n                        PhoneCAPTCHAThis field is hidden when viewing the formUTM SourceThis field is hidden when viewing the formUTM MediumThis field is hidden when viewing the formUTM CampaignThis field is hidden when viewing the formSource Id
URL:https://ivyliving.com/theivyberkeley/event/lumpia-101/
ATTACH;FMTTYPE=image/jpeg:https://ivyliving.com/theivyberkeley/wp-content/uploads/sites/60/2026/03/iStock-1336077216.jpg
END:VEVENT
BEGIN:VEVENT
DTSTART;TZID=UTC:20260421T110000
DTEND;TZID=UTC:20260421T130000
DTSTAMP:20260421T092928
CREATED:20260323T203851Z
LAST-MODIFIED:20260323T203851Z
UID:3211-1776769200-1776776400@ivyliving.com
SUMMARY:Wellness by Ivy
DESCRIPTION:Enjoy gourmet bites and refreshing beverages as a professional shares practical\, effective strategies for preventing falls.\n\n📍2501 Milvia Street Berkeley\, CA 94704 \n\n                \n                        \n                            Experience The Ivy at Berkeley\n                             \n							"*" indicates required fields \n                        					\n						Δ\n						\n						\n\n					\n                        NameThis field is for validation purposes and should be left unchanged.First Name*Last Name*Email*\n                            \n                        PhoneCAPTCHAThis field is hidden when viewing the formUTM SourceThis field is hidden when viewing the formUTM MediumThis field is hidden when viewing the formUTM CampaignThis field is hidden when viewing the formSource Id
URL:https://ivyliving.com/theivyberkeley/event/wellness-by-ivy-3/
ATTACH;FMTTYPE=image/jpeg:https://ivyliving.com/theivyberkeley/wp-content/uploads/sites/60/2023/11/1_Careers-scaled.jpg
END:VEVENT
BEGIN:VEVENT
DTSTART;TZID=UTC:20260429T110000
DTEND;TZID=UTC:20260429T140000
DTSTAMP:20260421T092928
CREATED:20260323T204122Z
LAST-MODIFIED:20260323T204122Z
UID:3212-1777460400-1777471200@ivyliving.com
SUMMARY:Rightsizing Antiques Roadshow
DESCRIPTION:Discover the art of rightsizing with experts from Well Rive. Enjoy light bites and beverages while learning to organize your home and uncover the value of your treasures. Guests are invited to bring an item for appraisal.\n\n📍2501 Milvia Street Berkeley\, CA 94704 \n\n                \n                        \n                            Experience The Ivy at Berkeley\n                             \n							"*" indicates required fields \n                        					\n						Δ\n						\n						\n\n					\n                        FacebookThis field is for validation purposes and should be left unchanged.First Name*Last Name*Email*\n                            \n                        PhoneCAPTCHAThis field is hidden when viewing the formUTM SourceThis field is hidden when viewing the formUTM MediumThis field is hidden when viewing the formUTM CampaignThis field is hidden when viewing the formSource Id
URL:https://ivyliving.com/theivyberkeley/event/rightsizing-antiques-roadshow/
ATTACH;FMTTYPE=image/jpeg:https://ivyliving.com/theivyberkeley/wp-content/uploads/sites/60/2026/03/iStock-1412726412.jpg
END:VEVENT
BEGIN:VEVENT
DTSTART;TZID=UTC:20260507T130000
DTEND;TZID=UTC:20260507T150000
DTSTAMP:20260421T092928
CREATED:20260413T233047Z
LAST-MODIFIED:20260420T172227Z
UID:3216-1778158800-1778166000@ivyliving.com
SUMMARY:Afternoon Tea Party
DESCRIPTION:Join us for a charming\, spring tea party featuring pastries\, finger sandwiches\, and warm conversation. The afternoon continues with a tour of our community where you’ll discover the personalized care\, five-star dining\, and vibrant social calendar that make The Ivy truly exceptional.\n\n\n📍2501 Milvia Street Berkeley\, CA 94704 \n\n                \n                        \n                            Join Us for an Exclusive Event! *NON WH\n                            Event Form RSVP. \n                        					\n						Δ\n						\n						\n\n					\n                        CompanyThis field is for validation purposes and should be left unchanged.First NameLast NameEmail\n                            \n                        PhoneCAPTCHAThis field is hidden when viewing the formUTM SourceThis field is hidden when viewing the formUTM MediumThis field is hidden when viewing the formUTM CampaignThis field is hidden when viewing the formSource Id
URL:https://ivyliving.com/theivyberkeley/event/afternoon-tea-party/
ATTACH;FMTTYPE=image/jpeg:https://ivyliving.com/theivyberkeley/wp-content/uploads/sites/60/2026/04/iStock-1478394005.jpg
END:VEVENT
BEGIN:VEVENT
DTSTART;TZID=UTC:20260519T110000
DTEND;TZID=UTC:20260519T130000
DTSTAMP:20260421T092928
CREATED:20260413T233513Z
LAST-MODIFIED:20260420T171630Z
UID:3217-1779188400-1779195600@ivyliving.com
SUMMARY:Planning Ahead: A Conversation That Matters
DESCRIPTION:Join us for light bites & refreshments as expert Anna Le Mon from Senior Alternatives shares easy-to-follow guidance on organizing your financial and legal affairs\, so you can relax with confidence and enjoy true peace of mind. While you’re here\, tour our community and discover the personalized care\, five-star dining program\, and vibrant activities calendar that make The Ivy truly exceptional.\n\n\n\n📍2501 Milvia Street Berkeley\, CA 94704 \n\n                \n                        \n                            Join Us for an Exclusive Event! *NON WH\n                            Event Form RSVP. \n                        					\n						Δ\n						\n						\n\n					\n                        CommentsThis field is for validation purposes and should be left unchanged.First NameLast NameEmail\n                            \n                        PhoneCAPTCHAThis field is hidden when viewing the formUTM SourceThis field is hidden when viewing the formUTM MediumThis field is hidden when viewing the formUTM CampaignThis field is hidden when viewing the formSource Id
URL:https://ivyliving.com/theivyberkeley/event/planning-ahead-a-conversation-that-matters/
ATTACH;FMTTYPE=image/png:https://ivyliving.com/theivyberkeley/wp-content/uploads/sites/60/2026/04/Screenshot-2026-04-20-101507.png
END:VEVENT
BEGIN:VEVENT
DTSTART;TZID=UTC:20260528T160000
DTEND;TZID=UTC:20260528T180000
DTSTAMP:20260421T092928
CREATED:20260413T233858Z
LAST-MODIFIED:20260420T165947Z
UID:3218-1779984000-1779991200@ivyliving.com
SUMMARY:Dinner & Opera
DESCRIPTION:Indulge in an elegant three-course dinner as you are serenaded by the stunning voice and captivating performance of a professional opera singer. The evening continues with an exclusive tour of our community as you discover the elevated surroundings\, luxurious amenities\, and personalized care that make The Ivy the perfect place to call home.\n\n\n\n📍2501 Milvia Street Berkeley\, CA 94704 \n\n                \n                        \n                            Join Us for an Exclusive Event! *NON WH\n                            Event Form RSVP. \n                        					\n						Δ\n						\n						\n\n					\n                        PhoneThis field is for validation purposes and should be left unchanged.First NameLast NameEmail\n                            \n                        PhoneCAPTCHAThis field is hidden when viewing the formUTM SourceThis field is hidden when viewing the formUTM MediumThis field is hidden when viewing the formUTM CampaignThis field is hidden when viewing the formSource Id
URL:https://ivyliving.com/theivyberkeley/event/dinner-opera/
ATTACH;FMTTYPE=image/jpeg:https://ivyliving.com/theivyberkeley/wp-content/uploads/sites/60/2026/04/iStock-2243680454-modified-0b260d28-aaf6-4980-b054-b575534f9168.jpg
END:VEVENT
END:VCALENDAR