BEGIN:VCALENDAR
VERSION:2.0
PRODID:-//The Ridge - ECPv6.15.20//NONSGML v1.0//EN
CALSCALE:GREGORIAN
METHOD:PUBLISH
X-WR-CALNAME:The Ridge
X-ORIGINAL-URL:https://ivyliving.com/theridge
X-WR-CALDESC:Events for The Ridge
REFRESH-INTERVAL;VALUE=DURATION:PT1H
X-Robots-Tag:noindex
X-PUBLISHED-TTL:PT1H
BEGIN:VTIMEZONE
TZID:UTC
BEGIN:STANDARD
TZOFFSETFROM:+0000
TZOFFSETTO:+0000
TZNAME:UTC
DTSTART:20250101T000000
END:STANDARD
END:VTIMEZONE
BEGIN:VEVENT
DTSTART;TZID=UTC:20260204T150000
DTEND;TZID=UTC:20260204T170000
DTSTAMP:20260419T160401
CREATED:20260112T192556Z
LAST-MODIFIED:20260112T193514Z
UID:3072-1770217200-1770224400@ivyliving.com
SUMMARY:Wine and Charcuterie Experience
DESCRIPTION:Join us for an elegant and lively wine and charcuterie experience. Indulge in red\, white\, and rosé wines paired with a curated selection of meats and cheeses. \n\nWhile you’re here\, tour our community and discover the personalized care\, vibrant activities calendar\, and five-star dining that make The Ridge truly exceptional.\n  \n📍31200 Cedar Valley Dr\, Westlake Village\, CA 91362 \n  \n\n\n                \n                        \n                            Join us for a celebration!\n                             \n							"*" indicates required fields \n                        					\n						Δ\n						\n						\n\n					\n                        CommentsThis field is for validation purposes and should be left unchanged.First Name*Last Name*Email Address*Phone NumberrecaptchaThis field is hidden when viewing the formUTM SourceThis field is hidden when viewing the formUTM MediumThis field is hidden when viewing the formUTM CampaignThis field is hidden when viewing the formSource Id
URL:https://ivyliving.com/theridge/event/wine-and-charcuterie-experience/
ATTACH;FMTTYPE=image/jpeg:https://ivyliving.com/theridge/wp-content/uploads/sites/54/2026/01/wine-and-charcuterie.jpg
END:VEVENT
END:VCALENDAR