BEGIN:VCALENDAR
VERSION:2.0
PRODID:-//The Ridge - ECPv6.15.20//NONSGML v1.0//EN
CALSCALE:GREGORIAN
METHOD:PUBLISH
X-WR-CALNAME:The Ridge
X-ORIGINAL-URL:https://ivyliving.com/theridge
X-WR-CALDESC:Events for The Ridge
REFRESH-INTERVAL;VALUE=DURATION:PT1H
X-Robots-Tag:noindex
X-PUBLISHED-TTL:PT1H
BEGIN:VTIMEZONE
TZID:UTC
BEGIN:STANDARD
TZOFFSETFROM:+0000
TZOFFSETTO:+0000
TZNAME:UTC
DTSTART:20250101T000000
END:STANDARD
END:VTIMEZONE
BEGIN:VEVENT
DTSTART;TZID=UTC:20260213T160000
DTEND;TZID=UTC:20260213T180000
DTSTAMP:20260419T160352
CREATED:20260112T193055Z
LAST-MODIFIED:20260112T193421Z
UID:3074-1770998400-1771005600@ivyliving.com
SUMMARY:Valentines Grab and Go
DESCRIPTION:Stop by and pick up your Valentine’s Day gift from us: A gourmet three-course meal for two prepared by our Executive Chef\, a bottle of wine\, and a special holiday treat. While you’re here\, tour our community and discover the personalized care\, vibrant activities calendar\, and five-star dining that make The Ridge truly exceptional.\n \n📍31200 Cedar Valley Dr\, Westlake Village\, CA 91362 \n  \n\n\n                \n                        \n                            Join us for a celebration!\n                             \n							"*" indicates required fields \n                        					\n						Δ\n						\n						\n\n					\n                        X/TwitterThis field is for validation purposes and should be left unchanged.First Name*Last Name*Email Address*Phone NumberrecaptchaThis field is hidden when viewing the formUTM SourceThis field is hidden when viewing the formUTM MediumThis field is hidden when viewing the formUTM CampaignThis field is hidden when viewing the formSource Id
URL:https://ivyliving.com/theridge/event/valentines-grab-and-go/
CATEGORIES:Holiday
ATTACH;FMTTYPE=image/jpeg:https://ivyliving.com/theridge/wp-content/uploads/sites/54/2026/01/valentines-grab-and-go.jpg
END:VEVENT
END:VCALENDAR