BEGIN:VCALENDAR
VERSION:2.0
PRODID:-//The Ridge - ECPv6.15.20//NONSGML v1.0//EN
CALSCALE:GREGORIAN
METHOD:PUBLISH
X-WR-CALNAME:The Ridge
X-ORIGINAL-URL:https://ivyliving.com/theridge
X-WR-CALDESC:Events for The Ridge
REFRESH-INTERVAL;VALUE=DURATION:PT1H
X-Robots-Tag:noindex
X-PUBLISHED-TTL:PT1H
BEGIN:VTIMEZONE
TZID:UTC
BEGIN:STANDARD
TZOFFSETFROM:+0000
TZOFFSETTO:+0000
TZNAME:UTC
DTSTART:20250101T000000
END:STANDARD
END:VTIMEZONE
BEGIN:VEVENT
DTSTART;TZID=UTC:20260307T160000
DTEND;TZID=UTC:20260307T180000
DTSTAMP:20260421T110432
CREATED:20260226T213603Z
LAST-MODIFIED:20260226T213603Z
UID:3761-1772899200-1772906400@ivyliving.com
SUMMARY:Dinner To-Go
DESCRIPTION:As a caregiver\, your work is never-ending; allow us to care for you. Stop by The Ridge and pick up a complimentary\, chef-prepared dinner featuring an appetizer\, entrée\, and decadent dessert. While you’re here\, tour our Evergreen memory care neighborhood\, and discover the five-star dining\, vibrant social calendar\, and personalized care that make The Ridge truly exceptional.\n\n\n\n  \n📍31200 Cedar Valley Dr\, Westlake Village\, CA 91362 \n  \n\n\n                \n                        \n                            Join us for a celebration!\n                             \n							"*" indicates required fields \n                        					\n						Δ\n						\n						\n\n					\n                        NameThis field is for validation purposes and should be left unchanged.First Name*Last Name*Email Address*Phone NumberrecaptchaThis field is hidden when viewing the formUTM SourceThis field is hidden when viewing the formUTM MediumThis field is hidden when viewing the formUTM CampaignThis field is hidden when viewing the formSource Id
URL:https://ivyliving.com/theridge/event/dinner-to-go/
ATTACH;FMTTYPE=image/jpeg:https://ivyliving.com/theridge/wp-content/uploads/sites/54/2026/02/iStock-2227439453-1-scaled.jpg
END:VEVENT
END:VCALENDAR