BEGIN:VCALENDAR
VERSION:2.0
PRODID:-//The Ridge - ECPv6.15.20//NONSGML v1.0//EN
CALSCALE:GREGORIAN
METHOD:PUBLISH
X-WR-CALNAME:The Ridge
X-ORIGINAL-URL:https://ivyliving.com/theridge
X-WR-CALDESC:Events for The Ridge
REFRESH-INTERVAL;VALUE=DURATION:PT1H
X-Robots-Tag:noindex
X-PUBLISHED-TTL:PT1H
BEGIN:VTIMEZONE
TZID:UTC
BEGIN:STANDARD
TZOFFSETFROM:+0000
TZOFFSETTO:+0000
TZNAME:UTC
DTSTART:20250101T000000
END:STANDARD
END:VTIMEZONE
BEGIN:VEVENT
DTSTART;TZID=UTC:20260416T110000
DTEND;TZID=UTC:20260416T130000
DTSTAMP:20260420T041914
CREATED:20260323T162841Z
LAST-MODIFIED:20260323T164524Z
UID:3773-1776337200-1776344400@ivyliving.com
SUMMARY:Brunch Bites
DESCRIPTION:Join us for an elevated morning on our Sky Terrace. Savor a refined selection of sweet and savory offerings featuring eggs Benedict\, artisanal waffles\, fresh fruit\, yogurt\, and mimosas. Continue your experience with an exclusive tour and discover the refined surroundings\, vibrant social calendar\, and personalized care that make The Ridge truly exceptional.\n\n\n\n  \n📍31200 Cedar Valley Dr\, Westlake Village\, CA 91362 \n  \n\n\n                \n                        \n                            Join us for a celebration!\n                             \n							"*" indicates required fields \n                        					\n						Δ\n						\n						\n\n					\n                        FacebookThis field is for validation purposes and should be left unchanged.First Name*Last Name*Email Address*Phone NumberrecaptchaThis field is hidden when viewing the formUTM SourceThis field is hidden when viewing the formUTM MediumThis field is hidden when viewing the formUTM CampaignThis field is hidden when viewing the formSource Id
URL:https://ivyliving.com/theridge/event/spring-brunch/
ATTACH;FMTTYPE=image/jpeg:https://ivyliving.com/theridge/wp-content/uploads/sites/54/2026/03/spring-brunch.jpg
END:VEVENT
BEGIN:VEVENT
DTSTART;TZID=UTC:20260430T150000
DTEND;TZID=UTC:20260430T170000
DTSTAMP:20260420T041914
CREATED:20260319T163852Z
LAST-MODIFIED:20260323T204043Z
UID:3770-1777561200-1777568400@ivyliving.com
SUMMARY:Rooftop Cooking Demo
DESCRIPTION:Join us on our Sky Terrace for an elegant and engaging culinary experience. Sip a signature cocktail as our Executive Chef prepares a gourmet entrée before your eyes. While you’re here\, enjoy a private tour of our premier community and discover the refined surroundings\, curated events\, and personalized care that make The Ridge truly exceptional.\n\n\n\n  \n📍31200 Cedar Valley Dr\, Westlake Village\, CA 91362 \n  \n\n                \n                        \n                            Join us for a celebration!\n                             \n							"*" indicates required fields \n                        					\n						Δ\n						\n						\n\n					\n                        InstagramThis field is for validation purposes and should be left unchanged.First Name*Last Name*Email Address*Phone NumberrecaptchaThis field is hidden when viewing the formUTM SourceThis field is hidden when viewing the formUTM MediumThis field is hidden when viewing the formUTM CampaignThis field is hidden when viewing the formSource Id
URL:https://ivyliving.com/theridge/event/rooftop-cooking-demo/
ATTACH;FMTTYPE=image/jpeg:https://ivyliving.com/theridge/wp-content/uploads/sites/54/2026/03/iStock-2207982879.jpg
END:VEVENT
BEGIN:VEVENT
DTSTART;TZID=UTC:20260516T110000
DTEND;TZID=UTC:20260516T130000
DTSTAMP:20260420T041914
CREATED:20260407T171119Z
LAST-MODIFIED:20260407T171119Z
UID:3781-1778929200-1778936400@ivyliving.com
SUMMARY:A Morning with Andrea Gallagher
DESCRIPTION:Caring for a loved one is among life’s most meaningful roles—and one of its most demanding. Andrea Gallagher\, President & CEO of Senior Concerns\, shares thoughtful insights and practical guidance for supporting others while remaining well yourself. Enjoy light bites and refreshing beverages during this morning of connection and support.\n\n\n\n\n  \n📍31200 Cedar Valley Dr\, Westlake Village\, CA 91362 \n  \n\n                \n                        \n                            Join us for a celebration!\n                             \n							"*" indicates required fields \n                        					\n						Δ\n						\n						\n\n					\n                        FacebookThis field is for validation purposes and should be left unchanged.First Name*Last Name*Email Address*Phone NumberrecaptchaThis field is hidden when viewing the formUTM SourceThis field is hidden when viewing the formUTM MediumThis field is hidden when viewing the formUTM CampaignThis field is hidden when viewing the formSource Id
URL:https://ivyliving.com/theridge/event/a-morning-with-andrea-gallagher/
ATTACH;FMTTYPE=image/jpeg:https://ivyliving.com/theridge/wp-content/uploads/sites/54/2026/04/iStock-2200416451.jpg
END:VEVENT
END:VCALENDAR